BEGIN:VCALENDAR
VERSION:2.0
PRODID:-//Musikkapelle Denkingen - ECPv4.3.2//NONSGML v1.0//EN
CALSCALE:GREGORIAN
METHOD:PUBLISH
X-WR-CALNAME:Musikkapelle Denkingen
X-ORIGINAL-URL:https://musikkapelle-denkingen.de
X-WR-CALDESC:Events for Musikkapelle Denkingen
BEGIN:VEVENT
DTSTART;VALUE=DATE:20260510
DTEND;VALUE=DATE:20260510
DTSTAMP:20260423T085441
CREATED:20260202T200143Z
LAST-MODIFIED:20260202T200143Z
UID:1093-1778371200-1778457599@musikkapelle-denkingen.de
SUMMARY:Kreisverbandsmusikfest Gosheim
DESCRIPTION:
URL:https://musikkapelle-denkingen.de/event/kreisverbandsmusikfest-gosheim/
END:VEVENT
BEGIN:VEVENT
DTSTART;VALUE=DATE:20260514
DTEND;VALUE=DATE:20260514
DTSTAMP:20260423T085441
CREATED:20260202T200244Z
LAST-MODIFIED:20260202T200244Z
UID:1095-1778716800-1778803199@musikkapelle-denkingen.de
SUMMARY:Himmelsbergfest Öfingen
DESCRIPTION:
URL:https://musikkapelle-denkingen.de/event/himmelsbergfest-oefingen/
END:VEVENT
BEGIN:VEVENT
DTSTART;VALUE=DATE:20260604
DTEND;VALUE=DATE:20260604
DTSTAMP:20260423T085441
CREATED:20260202T200321Z
LAST-MODIFIED:20260202T200321Z
UID:1097-1780531200-1780617599@musikkapelle-denkingen.de
SUMMARY:Fronleichnam Prozession
DESCRIPTION:
URL:https://musikkapelle-denkingen.de/event/fronleichnam-prozession/
END:VEVENT
BEGIN:VEVENT
DTSTART;VALUE=DATE:20260613
DTEND;VALUE=DATE:20260613
DTSTAMP:20260423T085441
CREATED:20260202T200347Z
LAST-MODIFIED:20260202T200347Z
UID:1099-1781308800-1781395199@musikkapelle-denkingen.de
SUMMARY:Ausflug
DESCRIPTION:
URL:https://musikkapelle-denkingen.de/event/ausflug-2/
END:VEVENT
BEGIN:VEVENT
DTSTART;VALUE=DATE:20260703
DTEND;VALUE=DATE:20260703
DTSTAMP:20260423T085441
CREATED:20260202T200428Z
LAST-MODIFIED:20260202T200428Z
UID:1101-1783036800-1783123199@musikkapelle-denkingen.de
SUMMARY:Summernighthock
DESCRIPTION:
URL:https://musikkapelle-denkingen.de/event/summernighthock-4/
END:VEVENT
BEGIN:VEVENT
DTSTART;TZID=Europe/Berlin:20260717T200000
DTEND;TZID=Europe/Berlin:20260717T220000
DTSTAMP:20260423T085441
CREATED:20260202T200531Z
LAST-MODIFIED:20260202T200531Z
UID:1103-1784318400-1784325600@musikkapelle-denkingen.de
SUMMARY:öffentliche Musikprobe
DESCRIPTION:
URL:https://musikkapelle-denkingen.de/event/oeffentliche-musikprobe/
LOCATION:Denkingen
END:VEVENT
BEGIN:VEVENT
DTSTART;TZID=Europe/Berlin:20260801T100000
DTEND;TZID=Europe/Berlin:20260801T130000
DTSTAMP:20260423T085441
CREATED:20260202T200650Z
LAST-MODIFIED:20260202T200650Z
UID:1106-1785578400-1785589200@musikkapelle-denkingen.de
SUMMARY:Kinderferienprogramm
DESCRIPTION:
URL:https://musikkapelle-denkingen.de/event/kinderferienprogramm-2/
END:VEVENT
BEGIN:VEVENT
DTSTART;TZID=Europe/Berlin:20260911T200000
DTEND;TZID=Europe/Berlin:20260911T220000
DTSTAMP:20260423T085441
CREATED:20260202T200742Z
LAST-MODIFIED:20260202T200742Z
UID:1108-1789156800-1789164000@musikkapelle-denkingen.de
SUMMARY:1. Probe nach dem Urlaub
DESCRIPTION:
URL:https://musikkapelle-denkingen.de/event/1-probe-nach-dem-urlaub/
END:VEVENT
BEGIN:VEVENT
DTSTART;VALUE=DATE:20260918
DTEND;VALUE=DATE:20260918
DTSTAMP:20260423T085441
CREATED:20260202T200824Z
LAST-MODIFIED:20260202T200824Z
UID:1110-1789689600-1789775999@musikkapelle-denkingen.de
SUMMARY:Schlachtfest Böhringen
DESCRIPTION:
URL:https://musikkapelle-denkingen.de/event/schlachtfest-boehringen/
END:VEVENT
BEGIN:VEVENT
DTSTART;VALUE=DATE:20261009
DTEND;VALUE=DATE:20261009
DTSTAMP:20260423T085441
CREATED:20260202T200910Z
LAST-MODIFIED:20260202T200910Z
UID:1112-1791504000-1791590399@musikkapelle-denkingen.de
SUMMARY:Rübengeisterumzug (Jugend)
DESCRIPTION:
URL:https://musikkapelle-denkingen.de/event/ruebengeisterumzug-jugend/
END:VEVENT
END:VCALENDAR